BEGIN:VCALENDAR
PRODID:-//eluceo/ical//2.0/EN
VERSION:2.0
CALSCALE:GREGORIAN
BEGIN:VEVENT
UID:e49e592ac0d4988ee6edff5be34f3917
DTSTAMP:20260419T163217Z
SUMMARY:Conférence
DESCRIPTION:\n\nLe Rotary club d'Amiens organise avec le club Innerwheel A
 miens une conférence avec M. Jacques de Larosière dont l'expérience et 
 la réputation internationale sont incontestables.\n\n \n\n\nM. de Larosi
 ère dédicacera son dernier ouvrage "les 10 préjugés qui nous mènent a
 u désastre économique et financier" pendant le cocktail.\n\n\nLes droits
  d'entrée à cette conférence sont fixés à 20€ (10€ pour les étud
 iants) et comprennent le cocktail qui prolongera la conférence.\n\n\n \n
 \n\nConférencier(s): M. Jacques de Larosière
URL:https://amiens.rotaryd1520.org/fr/agenda/show/14865
DTSTART;TZID=Europe/Zurich:20190221T180000
DTEND;TZID=Europe/Zurich:20190221T180000
LOCATION:Salle Dewailly à Amiens
CATEGORIES:Rotary
END:VEVENT
BEGIN:VTIMEZONE
TZID:Europe/Zurich
BEGIN:STANDARD
DTSTART:20190221T180000
TZNAME:CET
TZOFFSETTO:+0100
TZOFFSETFROM:+0100
END:STANDARD
END:VTIMEZONE
END:VCALENDAR
